BEGIN:VCALENDAR
VERSION:2.0
PRODID:-//Library Market//iCal Export//EN
BEGIN:VEVENT
SUMMARY:Homeschool Meetup
UID:28501
DTSTAMP:20260422T054300Z
DTSTART:20260710T150000Z
DTEND:20260710T160000Z
LOCATION:125 S. Municipal Drive, Sugar Grove , IL 60554, United States
ROOM: NOW Space
DESCRIPTION:Meet other homeschooling families for fun activities at this c
 ollaborative monthly meetup. All approaches welcome!Activities intended fo
 r ages 5-11. Siblings welcome! No registration needed.
URL:https://calendar.sgpl.org/event/homeschool-meetup-28501
END:VEVENT
END:VCALENDAR
