BEGIN:VCALENDAR
VERSION:2.0
PRODID:-//Library Market//iCal Export//EN
BEGIN:VEVENT
SUMMARY:STEAM Seekers: STEM Cup Stacking Challenge
UID:28504
DTSTAMP:20260422T054300Z
DTSTART:20260713T213000Z
DTEND:20260713T223000Z
LOCATION:125 S. Municipal Drive, Sugar Grove , IL 60554, United States
ROOM: NOW Space
DESCRIPTION:June: Bubble PaintingJuly: STEM Cup Stacking ChallengeAugust: 
 Magnet Painting
URL:https://calendar.sgpl.org/event/steam-seekers-stem-cup-stacking-challe
 nge-28504
END:VEVENT
END:VCALENDAR
