BEGIN:VCALENDAR
VERSION:2.0
PRODID:-//Library Market//iCal Export//EN
BEGIN:VEVENT
SUMMARY:Preschool Storytime
UID:28507
DTSTAMP:20260422T033100Z
DTSTART:20260610T150000Z
DTEND:20260610T154500Z
LOCATION:125 S. Municipal Drive, Sugar Grove , IL 60554, United States
ROOM: Meeting Room C
DESCRIPTION:
URL:https://calendar.sgpl.org/event/preschool-storytime-28507
END:VEVENT
END:VCALENDAR
