BEGIN:VCALENDAR
VERSION:2.0
PRODID:-//Library Market//iCal Export//EN
BEGIN:VEVENT
SUMMARY:Preschool Storytime
UID:28513
DTSTAMP:20260422T025300Z
DTSTART:20260722T150000Z
DTEND:20260722T154500Z
LOCATION:125 S. Municipal Drive, Sugar Grove , IL 60554, United States
ROOM: Meeting Room C
DESCRIPTION:
URL:https://calendar.sgpl.org/event/preschool-storytime-28513
END:VEVENT
END:VCALENDAR
