BEGIN:VCALENDAR
VERSION:2.0
PRODID:-//Library Market//iCal Export//EN
BEGIN:VEVENT
SUMMARY:Preschool Storytime
UID:28517
DTSTAMP:20260422T020300Z
DTSTART:20260819T150000Z
DTEND:20260819T154500Z
LOCATION:125 S. Municipal Drive, Sugar Grove , IL 60554, United States
ROOM: Meeting Room C
DESCRIPTION:
URL:https://calendar.sgpl.org/event/preschool-storytime-28517
END:VEVENT
END:VCALENDAR
