BEGIN:VCALENDAR
VERSION:2.0
PRODID:-//Library Market//iCal Export//EN
BEGIN:VEVENT
SUMMARY:Maker 101
UID:28518
DTSTAMP:20260422T054300Z
DTSTART:20260618T213000Z
DTEND:20260618T223000Z
LOCATION:125 S. Municipal Drive, Sugar Grove , IL 60554, United States
ROOM: Janice Katherine Rich Technology Learning Center
DESCRIPTION:Have you ever wanted to learn how to create a project for a 3-
 D printer? You&#039;re in luck! 3rd through 5th graders are invited to joi
 n Maker 101, where we will use TinkerCAD to create a project that will be 
 printed on the library&#039;s 3-D printer. This program is best suited fo
 r children who can navigate a computer mouse and keyboard with proficiency
 .Grades 3-5. Please register.
URL:https://calendar.sgpl.org/event/maker-101-28518
END:VEVENT
END:VCALENDAR
