BEGIN:VCALENDAR
VERSION:2.0
PRODID:-//Library Market//iCal Export//EN
BEGIN:VEVENT
SUMMARY:Teen Program: Perler Bead Plants
UID:28520
DTSTAMP:20260422T001400Z
DTSTART:20260601T230000Z
DTEND:20260602T003000Z
LOCATION:125 S. Municipal Drive, Sugar Grove , IL 60554, United States
ROOM: Teen Zone
DESCRIPTION:Create a flower, succulent, or cactus out of Perler Beads and 
 plant it in its own little pot. Snacks provided. 
URL:https://calendar.sgpl.org/event/teen-program-perler-bead-plants-28520
END:VEVENT
END:VCALENDAR
