BEGIN:VCALENDAR
VERSION:2.0
PRODID:-//Library Market//iCal Export//EN
BEGIN:VEVENT
SUMMARY:Anime Club
UID:28521
DTSTAMP:20260422T001000Z
DTSTART:20260720T230000Z
DTEND:20260721T000000Z
LOCATION:125 S. Municipal Drive, Sugar Grove , IL 60554, United States
ROOM: Teen Zone
DESCRIPTION:
URL:https://calendar.sgpl.org/event/anime-club-28521
END:VEVENT
END:VCALENDAR
