BEGIN:VCALENDAR
VERSION:2.0
PRODID:-//Library Market//iCal Export//EN
BEGIN:VEVENT
SUMMARY:No Storytime Today!
UID:28536
DTSTAMP:20260422T064700Z
DTSTART:20260526T050000Z
DTEND:20260528T050000Z
LOCATION:125 S. Municipal Drive, Sugar Grove , IL 60554, United States
ROOM: No Storytime Today!
DESCRIPTION:One week per quarter, our staff takes a break from storytime t
 o rest and plan for the next session. Regular storytimes will resume on Tu
 esday, June 2.
URL:https://calendar.sgpl.org/event/no-storytime-today-28536
END:VEVENT
END:VCALENDAR
