BEGIN:VCALENDAR
VERSION:2.0
PRODID:-//Library Market//iCal Export//EN
BEGIN:VEVENT
SUMMARY:Teen Afternoon Movie
UID:28547
DTSTAMP:20260424T160700Z
DTSTART:20260612T190000Z
DTEND:20260612T210000Z
LOCATION:125 S. Municipal Drive, Sugar Grove , IL 60554, United States
ROOM: Teen Zone
DESCRIPTION:Starting Friday May 22 and ending Friday Aug. 14, library staf
 f will be showing a teen friendly (PG to PG-13) movie in the Teen Zone eve
 ry Friday that we are open. There will be snacks, board games, and, of cou
 rse, our computers for additional entertainment. Some weeks will have a th
 eme (ex. Retro or Dystopian &quot;Fun&quot;!). Requests for films will be 
 taken into consideration. 
URL:https://calendar.sgpl.org/event/teen-afternoon-movie-28547
END:VEVENT
END:VCALENDAR
