BEGIN:VCALENDAR
VERSION:2.0
PRODID:-//Library Market//iCal Export//EN
BEGIN:VEVENT
SUMMARY:Family Storytime
UID:28566
DTSTAMP:20260422T033100Z
DTSTART:20260716T150000Z
DTEND:20260716T153000Z
LOCATION:125 S. Municipal Drive, Sugar Grove , IL 60554, United States
ROOM: Meeting Room C
DESCRIPTION:
URL:https://calendar.sgpl.org/event/family-storytime-28566
END:VEVENT
END:VCALENDAR
