BEGIN:VCALENDAR
VERSION:2.0
PRODID:-//Library Market//iCal Export//EN
BEGIN:VEVENT
SUMMARY:Family Storytime
UID:28571
DTSTAMP:20260422T020300Z
DTSTART:20260820T150000Z
DTEND:20260820T153000Z
LOCATION:125 S. Municipal Drive, Sugar Grove , IL 60554, United States
ROOM: Meeting Room C
DESCRIPTION:
URL:https://calendar.sgpl.org/event/family-storytime-28571
END:VEVENT
END:VCALENDAR
