BEGIN:VCALENDAR
VERSION:2.0
PRODID:-//Library Market//iCal Export//EN
BEGIN:VEVENT
SUMMARY:Messy Mondays
UID:28573
DTSTAMP:20260422T000200Z
DTSTART:20260608T150000Z
DTEND:20260608T160000Z
LOCATION:125 S. Municipal Drive, Sugar Grove , IL 60554, United States
ROOM: Library Grounds
DESCRIPTION:June: Water PlayJuly: SandAugust: Fluffy Cloud Art
URL:https://calendar.sgpl.org/event/messy-mondays-28573
END:VEVENT
END:VCALENDAR
