BEGIN:VCALENDAR
VERSION:2.0
PRODID:-//Library Market//iCal Export//EN
BEGIN:VEVENT
SUMMARY:Messy Mondays
UID:28575
DTSTAMP:20260422T000800Z
DTSTART:20260810T150000Z
DTEND:20260810T160000Z
LOCATION:125 S. Municipal Drive, Sugar Grove , IL 60554, United States
ROOM: NOW Space
DESCRIPTION:June: Water PlayJuly: SandAugust: Fluffy Cloud Art
URL:https://calendar.sgpl.org/event/messy-mondays-28575
END:VEVENT
END:VCALENDAR
