BEGIN:VCALENDAR
VERSION:2.0
PRODID:-//Library Market//iCal Export//EN
BEGIN:VEVENT
SUMMARY:Pokémon Club
UID:28577
DTSTAMP:20260422T033100Z
DTSTART:20260615T213000Z
DTEND:20260615T223000Z
LOCATION:125 S. Municipal Drive, Sugar Grove , IL 60554, United States
ROOM: Meeting Room C
DESCRIPTION:
URL:https://calendar.sgpl.org/event/pokemon-club-28577
END:VEVENT
END:VCALENDAR
