BEGIN:VCALENDAR
VERSION:2.0
PRODID:-//Library Market//iCal Export//EN
BEGIN:VEVENT
SUMMARY:Pokémon Club
UID:28579
DTSTAMP:20260422T020900Z
DTSTART:20260817T213000Z
DTEND:20260817T223000Z
LOCATION:125 S. Municipal Drive, Sugar Grove , IL 60554, United States
ROOM: Meeting Room C
DESCRIPTION:
URL:https://calendar.sgpl.org/event/pokemon-club-28579
END:VEVENT
END:VCALENDAR
