BEGIN:VCALENDAR
VERSION:2.0
PRODID:-//Library Market//iCal Export//EN
BEGIN:VEVENT
SUMMARY:Friday Afternoon Art
UID:28580
DTSTAMP:20260421T235900Z
DTSTART:20260626T213000Z
DTEND:20260626T223000Z
LOCATION:125 S. Municipal Drive, Sugar Grove , IL 60554, United States
ROOM: NOW Space
DESCRIPTION:Drop in and make art! This casual art break focuses on explori
 ng different materials and letting your creativity run wild. We will have 
 art supplies on-site, but feel free to bring your own supplies from home!G
 rades K-5. No registration required.
URL:https://calendar.sgpl.org/event/friday-afternoon-art-28580
END:VEVENT
END:VCALENDAR
