BEGIN:VCALENDAR
VERSION:2.0
PRODID:-//Library Market//iCal Export//EN
BEGIN:VEVENT
SUMMARY:Curiosity Club
UID:28599
DTSTAMP:20260424T185400Z
DTSTART:20260805T213000Z
DTEND:20260805T221500Z
LOCATION:125 S. Municipal Drive, Sugar Grove , IL 60554, United States
ROOM: NOW Space
DESCRIPTION:
URL:https://calendar.sgpl.org/event/curiosity-club-28599
END:VEVENT
END:VCALENDAR
